BEGIN:VCALENDAR
VERSION:2.0
PRODID:-//Plone.org//NONSGML plone.app.event//EN
X-WR-TIMEZONE:Europe/Rome
BEGIN:VEVENT
SUMMARY:RENTRI - Programma formativo gratuito sull'operatività del Regist
 ro Elettronico Nazionale per la Tracciabilità dei Rifiuti
DTSTART;TZID=Europe/Rome;VALUE=DATE-TIME:20241022T103000
DTEND;TZID=Europe/Rome;VALUE=DATE-TIME:20241022T123000
DTSTAMP;VALUE=DATE-TIME:20260424T220549Z
UID:df8f47cac6634aa2ae3ff18da7a32e6f@www.mo.camcom.it
CATEGORIES:Webinar
CREATED;VALUE=DATE-TIME:20240918T090011Z
DESCRIPTION:Webinar l'8 ottobre 2024 e il 22 ottobre 2024
LAST-MODIFIED;VALUE=DATE-TIME:20251118T152635Z
URL:https://www.mo.camcom.it/tutela-legalita-mercato/ambiente/news/rentri-
 programma-formativo-gratuito-sulloperativita-del-registro-elettronico-nazi
 onale-per-la-tracciabilita-dei-rifiuti/2024-10-22
END:VEVENT
BEGIN:VTIMEZONE
TZID:Europe/Rome
X-LIC-LOCATION:Europe/Rome
BEGIN:DAYLIGHT
DTSTART;VALUE=DATE-TIME:20240331T030000
TZNAME:CEST
TZOFFSETFROM:+0100
TZOFFSETTO:+0200
END:DAYLIGHT
END:VTIMEZONE
END:VCALENDAR
