BEGIN:VCALENDAR
VERSION:2.0
PRODID:-//Plone.org//NONSGML plone.app.event//EN
X-WR-TIMEZONE:Europe/Rome
BEGIN:VEVENT
SUMMARY:Produttori di rifiuti - I servizi di supporto del RENTRI per la te
 nuta del registro di carico e scarico digitale
DTSTART;TZID=Europe/Rome;VALUE=DATE-TIME:20251211T110000
DTSTAMP;VALUE=DATE-TIME:20260424T083908Z
UID:56c6bd098a0243aaa91819a406253297@www.mo.camcom.it
CATEGORIES:Webinar
CREATED;VALUE=DATE-TIME:20251205T104851Z
DESCRIPTION:Webinar informativo programmato per giovedì 11 dicembre 2025 
 ore 11
LAST-MODIFIED;VALUE=DATE-TIME:20251211T131551Z
URL:https://www.mo.camcom.it/tutela-legalita-mercato/ambiente/news/produtt
 ori-di-rifiuti-i-servizi-di-supporto-del-rentri-per-la-tenuta-del-registro
 -di-carico-e-scarico-digitale
END:VEVENT
BEGIN:VTIMEZONE
TZID:Europe/Rome
X-LIC-LOCATION:Europe/Rome
BEGIN:STANDARD
DTSTART;VALUE=DATE-TIME:20251026T020000
TZNAME:CET
TZOFFSETFROM:+0200
TZOFFSETTO:+0100
END:STANDARD
END:VTIMEZONE
END:VCALENDAR
