BEGIN:VCALENDAR
VERSION:2.0
PRODID:-//Plone.org//NONSGML plone.app.event//EN
X-WR-TIMEZONE:Europe/Rome
BEGIN:VEVENT
SUMMARY:Il nuovo Registro Pneumatici e il RENAP: adempimenti\, funzionalit
 à e modalità operative
DTSTART;TZID=Europe/Rome;VALUE=DATE-TIME:20260514T110000
DTEND;TZID=Europe/Rome;VALUE=DATE-TIME:20260514T123000
DTSTAMP;VALUE=DATE-TIME:20260421T233018Z
UID:647668b740844b5684d65140c0fca9c8@www.mo.camcom.it
CATEGORIES:Ambiente
CONTACT:ambiente@rer.camcom.it
CREATED;VALUE=DATE-TIME:20260421T140510Z
DESCRIPTION:Webinar gratuito giovedì 14 maggio 2026\, ore 11:00 - 12:30
LAST-MODIFIED;VALUE=DATE-TIME:20260421T140555Z
URL:https://www.mo.camcom.it/tutela-legalita-mercato/ambiente/news/il-nuov
 o-registro-pneumatici-e-il-renap-adempimenti-funzionalita-e-modalita-opera
 tive
END:VEVENT
BEGIN:VTIMEZONE
TZID:Europe/Rome
X-LIC-LOCATION:Europe/Rome
BEGIN:DAYLIGHT
DTSTART;VALUE=DATE-TIME:20260329T030000
TZNAME:CEST
TZOFFSETFROM:+0100
TZOFFSETTO:+0200
END:DAYLIGHT
END:VTIMEZONE
END:VCALENDAR
