BEGIN:VCALENDAR
VERSION:2.0
PRODID:-//Plone.org//NONSGML plone.app.event//EN
X-WR-TIMEZONE:Europe/Rome
BEGIN:VEVENT
SUMMARY:Vendere all'estero: il contratto di compravendita internazionale
DTSTART;TZID=Europe/Rome;VALUE=DATE-TIME:20260226T100000
DTEND;TZID=Europe/Rome;VALUE=DATE-TIME:20260226T120000
DTSTAMP;VALUE=DATE-TIME:20260422T061919Z
UID:f666992a1c4d4cb888c16b27ebce3717@www.mo.camcom.it
CATEGORIES:Webinar
CREATED;VALUE=DATE-TIME:20260121T081949Z
DESCRIPTION:26 febbraio 2026\, 10:00 - 12:00
LAST-MODIFIED;VALUE=DATE-TIME:20260319T114944Z
URL:https://www.mo.camcom.it/servizi-estero/internazionalizzazione/news/ve
 ndere-allestero-il-contratto-di-compravendita-internazionale
END:VEVENT
BEGIN:VTIMEZONE
TZID:Europe/Rome
X-LIC-LOCATION:Europe/Rome
BEGIN:STANDARD
DTSTART;VALUE=DATE-TIME:20251026T020000
TZNAME:CET
TZOFFSETFROM:+0200
TZOFFSETTO:+0100
END:STANDARD
END:VTIMEZONE
END:VCALENDAR
