BEGIN:VCALENDAR
VERSION:2.0
PRODID:-//Plone.org//NONSGML plone.app.event//EN
X-WR-TIMEZONE:Europe/Rome
BEGIN:VEVENT
SUMMARY:Marketing internazionale: il piano per innovare e conquistare nuov
 i mercati
DTSTART;TZID=Europe/Rome;VALUE=DATE-TIME:20260312T100000
DTEND;TZID=Europe/Rome;VALUE=DATE-TIME:20260312T120000
DTSTAMP;VALUE=DATE-TIME:20260422T075758Z
UID:672800ff296c4c56a17b7874f62afd85@www.mo.camcom.it
CATEGORIES:Webinar
CREATED;VALUE=DATE-TIME:20260121T082747Z
DESCRIPTION:12 marzo 2026\, 10:00 - 12:00
LAST-MODIFIED;VALUE=DATE-TIME:20260319T114954Z
URL:https://www.mo.camcom.it/servizi-estero/internazionalizzazione/news/ma
 rketing-internazionale-il-piano-per-innovare-e-conquistare-nuovi-mercati
END:VEVENT
BEGIN:VTIMEZONE
TZID:Europe/Rome
X-LIC-LOCATION:Europe/Rome
BEGIN:STANDARD
DTSTART;VALUE=DATE-TIME:20251026T020000
TZNAME:CET
TZOFFSETFROM:+0200
TZOFFSETTO:+0100
END:STANDARD
END:VTIMEZONE
END:VCALENDAR
