BEGIN:VCALENDAR
VERSION:2.0
PRODID:-//Plone.org//NONSGML plone.app.event//EN
X-WR-TIMEZONE:Europe/Rome
BEGIN:VEVENT
SUMMARY:Fiscalità Internazionale ed operazioni triangolari 2024
DTSTART;TZID=Europe/Rome;VALUE=DATE-TIME:20241030T093000
DTEND;TZID=Europe/Rome;VALUE=DATE-TIME:20241030T133000
DTSTAMP;VALUE=DATE-TIME:20260419T142409Z
UID:543916606c9b4fc784f7c75a8ec3588b@www.mo.camcom.it
CATEGORIES:Webinar
CREATED;VALUE=DATE-TIME:20241003T102919Z
DESCRIPTION:30 ottobre 2024\, 9.30-13.30
LAST-MODIFIED;VALUE=DATE-TIME:20241127T082507Z
URL:https://www.mo.camcom.it/servizi-estero/internazionalizzazione/news/fi
 scalita-internazionale-ed-operazioni-triangolari-2024
END:VEVENT
BEGIN:VTIMEZONE
TZID:Europe/Rome
X-LIC-LOCATION:Europe/Rome
BEGIN:STANDARD
DTSTART;VALUE=DATE-TIME:20241027T020000
TZNAME:CET
TZOFFSETFROM:+0200
TZOFFSETTO:+0100
END:STANDARD
END:VTIMEZONE
END:VCALENDAR
