BEGIN:VCALENDAR
VERSION:2.0
PRODID:-//Plone.org//NONSGML plone.app.event//EN
X-WR-TIMEZONE:Europe/Rome
BEGIN:VEVENT
SUMMARY:Fiscalità internazionale e operazioni triangolari: novità e aggi
 ornamenti
DTSTART;TZID=Europe/Rome;VALUE=DATE-TIME:20260225T093000
DTEND;TZID=Europe/Rome;VALUE=DATE-TIME:20260225T123000
DTSTAMP;VALUE=DATE-TIME:20260419T181609Z
UID:d1c1007a38a84c7fa42a8cc3fb1fb8cc@www.mo.camcom.it
CATEGORIES:Webinar
CREATED;VALUE=DATE-TIME:20260114T103916Z
DESCRIPTION:25 febbraio 2026\, 9:30 - 12:30
LAST-MODIFIED;VALUE=DATE-TIME:20260319T114935Z
URL:https://www.mo.camcom.it/servizi-estero/internazionalizzazione/news/fi
 scalita-internazionale-e-operazioni-triangolari-novita-e-aggiornamenti
END:VEVENT
BEGIN:VTIMEZONE
TZID:Europe/Rome
X-LIC-LOCATION:Europe/Rome
BEGIN:STANDARD
DTSTART;VALUE=DATE-TIME:20251026T020000
TZNAME:CET
TZOFFSETFROM:+0200
TZOFFSETTO:+0100
END:STANDARD
END:VTIMEZONE
END:VCALENDAR
