BEGIN:VCALENDAR
VERSION:2.0
PRODID:-//Plone.org//NONSGML plone.app.event//EN
X-WR-TIMEZONE:Europe/Rome
BEGIN:VEVENT
SUMMARY:Financial advisory e gare d'appalto europee - 2025 - Corso introdu
 ttivo
DTSTART;TZID=Europe/Rome;VALUE=DATE-TIME:20250604T090000
DTEND;TZID=Europe/Rome;VALUE=DATE-TIME:20250604T130000
DTSTAMP;VALUE=DATE-TIME:20260419T181632Z
UID:bf1a23ce7f834cdc97e8151d89fe5707@www.mo.camcom.it
CREATED;VALUE=DATE-TIME:20250513T130935Z
DESCRIPTION:4 giugno 2025 | 9.00 - 13.00
LAST-MODIFIED;VALUE=DATE-TIME:20251126T104122Z
URL:https://www.mo.camcom.it/servizi-estero/internazionalizzazione/news/fi
 nancial-advisory-e-gare-dappalto-europee-2025-corso-introduttivo
END:VEVENT
BEGIN:VTIMEZONE
TZID:Europe/Rome
X-LIC-LOCATION:Europe/Rome
BEGIN:DAYLIGHT
DTSTART;VALUE=DATE-TIME:20250330T030000
TZNAME:CEST
TZOFFSETFROM:+0100
TZOFFSETTO:+0200
END:DAYLIGHT
END:VTIMEZONE
END:VCALENDAR
