BEGIN:VCALENDAR
VERSION:2.0
PRODID:-//Plone.org//NONSGML plone.app.event//EN
X-WR-TIMEZONE:Europe/Rome
BEGIN:VEVENT
SUMMARY:Export e Riforma Doganale: cosa cambia per le imprese
DTSTART;TZID=Europe/Rome;VALUE=DATE-TIME:20241001T093000
DTEND;TZID=Europe/Rome;VALUE=DATE-TIME:20241001T133000
DTSTAMP;VALUE=DATE-TIME:20260420T140536Z
UID:298d09a9f8c148d4b88965a81ba87c8b@www.mo.camcom.it
CATEGORIES:Webinar
CREATED;VALUE=DATE-TIME:20240909T095345Z
DESCRIPTION:Webinar 1 ottobre 2024 - 9.30-13.30
LAST-MODIFIED;VALUE=DATE-TIME:20241003T110237Z
URL:https://www.mo.camcom.it/servizi-estero/internazionalizzazione/news/ex
 port-e-riforma-doganale-cosa-cambia-per-le-imprese
END:VEVENT
BEGIN:VTIMEZONE
TZID:Europe/Rome
X-LIC-LOCATION:Europe/Rome
BEGIN:DAYLIGHT
DTSTART;VALUE=DATE-TIME:20240331T030000
TZNAME:CEST
TZOFFSETFROM:+0100
TZOFFSETTO:+0200
END:DAYLIGHT
END:VTIMEZONE
END:VCALENDAR
