BEGIN:VCALENDAR
VERSION:2.0
PRODID:-//Plone.org//NONSGML plone.app.event//EN
X-WR-TIMEZONE:Europe/Rome
BEGIN:VEVENT
SUMMARY:Commercio internazionale 2026: aggiornamenti normativi e nuovi sce
 nari per le imprese
DTSTART;TZID=Europe/Rome;VALUE=DATE-TIME:20260128T093000
DTEND;TZID=Europe/Rome;VALUE=DATE-TIME:20260128T123000
DTSTAMP;VALUE=DATE-TIME:20260419T200240Z
UID:609639216e4f4e2e8b038b98df25d456@www.mo.camcom.it
CATEGORIES:Webinar
CREATED;VALUE=DATE-TIME:20260114T110021Z
DESCRIPTION:28 gennaio 2026\, 9:30 - 12:30
LAST-MODIFIED;VALUE=DATE-TIME:20260209T075751Z
URL:https://www.mo.camcom.it/servizi-estero/internazionalizzazione/news/co
 mmercio-internazionale-2026-aggiornamenti-normativi-e-nuovi-scenari-per-le
 -imprese
END:VEVENT
BEGIN:VTIMEZONE
TZID:Europe/Rome
X-LIC-LOCATION:Europe/Rome
BEGIN:STANDARD
DTSTART;VALUE=DATE-TIME:20251026T020000
TZNAME:CET
TZOFFSETFROM:+0200
TZOFFSETTO:+0100
END:STANDARD
END:VTIMEZONE
END:VCALENDAR
