BEGIN:VCALENDAR
VERSION:2.0
PRODID:-//Plone.org//NONSGML plone.app.event//EN
X-WR-TIMEZONE:Europe/Rome
BEGIN:VEVENT
SUMMARY:App IMPRESA ITALIA: la tua azienda sempre con te
DTSTART;VALUE=DATE:20250313
DTEND;VALUE=DATE:20250314
DTSTAMP;VALUE=DATE-TIME:20260424T175436Z
UID:cacd30bb1a654f4296a1a728811be404@www.mo.camcom.it
RRULE:FREQ=DAILY;COUNT=2;INTERVAL=5
CREATED;VALUE=DATE-TIME:20250227T101413Z
DESCRIPTION:Due webinar per le imprese 13 e 18 marzo 2025
LAST-MODIFIED;VALUE=DATE-TIME:20250319T100057Z
URL:https://www.mo.camcom.it/registro-imprese/servizi-digitali-e-online/ne
 ws/app-impresa-italia-la-tua-azienda-sempre-con-te
END:VEVENT
END:VCALENDAR
