BEGIN:VCALENDAR
VERSION:2.0
PRODID:-//Plone.org//NONSGML plone.app.event//EN
X-WR-TIMEZONE:Europe/Rome
BEGIN:VEVENT
SUMMARY:Seminario formativo su ATECO Starweb
DTSTART;TZID=Europe/Rome;VALUE=DATE-TIME:20260422T230000
DTEND;TZID=Europe/Rome;VALUE=DATE-TIME:20260423T000000
DTSTAMP;VALUE=DATE-TIME:20260422T234245Z
UID:2b9e93598db843fa9d571a24dc0fda98@www.mo.camcom.it
CATEGORIES:Seminario
CREATED;VALUE=DATE-TIME:20140508T103532Z
DESCRIPTION:Disponibile il materiale didattico del seminario del 9 giugno
LAST-MODIFIED;VALUE=DATE-TIME:20191024T133120Z
LOCATION:C.C.I.A.A. di Modena
URL:https://www.mo.camcom.it/registro-imprese/registro-imprese-rea-comunic
 azione-unica/news/seminario-formativo-su-ateco
END:VEVENT
BEGIN:VTIMEZONE
TZID:Europe/Rome
X-LIC-LOCATION:Europe/Rome
BEGIN:DAYLIGHT
DTSTART;VALUE=DATE-TIME:20260329T030000
TZNAME:CEST
TZOFFSETFROM:+0100
TZOFFSETTO:+0200
END:DAYLIGHT
END:VTIMEZONE
END:VCALENDAR
