BEGIN:VCALENDAR
VERSION:2.0
PRODID:-//Plone.org//NONSGML plone.app.event//EN
X-WR-TIMEZONE:Europe/Rome
BEGIN:VEVENT
SUMMARY:DIRE: nuovo strumento di compilazione degli adempimenti Registro I
 mprese
DTSTART;TZID=Europe/Rome;VALUE=DATE-TIME:20230418T100000
DTEND;TZID=Europe/Rome;VALUE=DATE-TIME:20230418T130000
DTSTAMP;VALUE=DATE-TIME:20260424T060454Z
UID:814f0498783e4770ac944d81c04a0be3@www.mo.camcom.it
CATEGORIES:Webinar
CREATED;VALUE=DATE-TIME:20230327T095045Z
DESCRIPTION:Rinnovo delle cariche sociali - Webinar gratuito del 18 aprile
  2023
LAST-MODIFIED;VALUE=DATE-TIME:20230420T085450Z
URL:https://www.mo.camcom.it/registro-imprese/registro-imprese-rea-comunic
 azione-unica/news/dire-nuovo-strumento-di-compilazione-degli-adempimenti-r
 egistro-imprese-18042023
END:VEVENT
BEGIN:VTIMEZONE
TZID:Europe/Rome
X-LIC-LOCATION:Europe/Rome
BEGIN:DAYLIGHT
DTSTART;VALUE=DATE-TIME:20230326T030000
TZNAME:CEST
TZOFFSETFROM:+0100
TZOFFSETTO:+0200
END:DAYLIGHT
END:VTIMEZONE
END:VCALENDAR
