BEGIN:VCALENDAR
VERSION:2.0
PRODID:-//Plone.org//NONSGML plone.app.event//EN
X-WR-TIMEZONE:Europe/Rome
BEGIN:VEVENT
SUMMARY:Seconda sessione 2024 esame di idoneità per agenti d'affari in me
 diazione
DTSTART;TZID=Europe/Rome;VALUE=DATE-TIME:20240514T143000
DTEND;TZID=Europe/Rome;VALUE=DATE-TIME:20240514T173000
DTSTAMP;VALUE=DATE-TIME:20260424T162012Z
UID:4867e3bc02e247d9aae6551b666c65d6@www.mo.camcom.it
CREATED;VALUE=DATE-TIME:20240405T133443Z
DESCRIPTION:Prove scritte il giorno martedì 14 maggio 2024 ore 14\,30. Pe
 r la presentazione delle domande occorre utilizzare il nuovo servizio on l
 ine.
LAST-MODIFIED;VALUE=DATE-TIME:20240515T145137Z
URL:https://www.mo.camcom.it/registro-imprese/attivita-regolamentate/news/
 seconda-sessione-2024-esame-di-idoneita-per-agenti-daffari-in-mediazione
END:VEVENT
BEGIN:VTIMEZONE
TZID:Europe/Rome
X-LIC-LOCATION:Europe/Rome
BEGIN:DAYLIGHT
DTSTART;VALUE=DATE-TIME:20240331T030000
TZNAME:CEST
TZOFFSETFROM:+0100
TZOFFSETTO:+0200
END:DAYLIGHT
END:VTIMEZONE
END:VCALENDAR
