BEGIN:VCALENDAR
VERSION:2.0
PRODID:-//Plone.org//NONSGML plone.app.event//EN
X-WR-TIMEZONE:Europe/Rome
BEGIN:VEVENT
SUMMARY:Prova d'esame conducenti
DTSTART;TZID=Europe/Rome;VALUE=DATE-TIME:20211130T084500
DTEND;TZID=Europe/Rome;VALUE=DATE-TIME:20211130T110000
DTSTAMP;VALUE=DATE-TIME:20260421T042643Z
UID:ff255808a8814f61b99441a61a111a94@www.mo.camcom.it
CATEGORIES:Esami
CREATED;VALUE=DATE-TIME:20190627T072740Z
DESCRIPTION:Martedì 30 novembre 2021\, ore 8.45\, presso la sede della Ca
 mera di Commercio in Via Ganaceto 134
LAST-MODIFIED;VALUE=DATE-TIME:20211125T094338Z
LOCATION:Camera di Commercio di Modena
URL:https://www.mo.camcom.it/registro-imprese/attivita-regolamentate/news/
 prova-esame-conducenti-30-11-2021
END:VEVENT
BEGIN:VTIMEZONE
TZID:Europe/Rome
X-LIC-LOCATION:Europe/Rome
BEGIN:STANDARD
DTSTART;VALUE=DATE-TIME:20211031T020000
TZNAME:CET
TZOFFSETFROM:+0200
TZOFFSETTO:+0100
END:STANDARD
END:VTIMEZONE
END:VCALENDAR
