BEGIN:VCALENDAR
VERSION:2.0
PRODID:-//Plone.org//NONSGML plone.app.event//EN
X-WR-TIMEZONE:Europe/Rome
BEGIN:VEVENT
SUMMARY:Prima sessione 2023 esame di idoneità per agenti d'affari in medi
 azione
DTSTART;TZID=Europe/Rome;VALUE=DATE-TIME:20230315T143000
DTEND;TZID=Europe/Rome;VALUE=DATE-TIME:20230315T163000
DTSTAMP;VALUE=DATE-TIME:20260421T181244Z
UID:e2a72faefce24ef88a023001df70f1b0@www.mo.camcom.it
RRULE:FREQ=MONTHLY;COUNT=1;BYMONTHDAY=15
RDATE;TZID=Europe/Rome:20230320T000000
EXDATE;TZID=Europe/Rome:20230316T000000,20230317T000000,20230318T000000,20
 230319T000000,20230321T000000
CREATED;VALUE=DATE-TIME:20230214T080008Z
DESCRIPTION:Prove scritte il giorno mercoledì 15 marzo 2023 e lunedì 20 
 marzo\, alle ore 14\,30
LAST-MODIFIED;VALUE=DATE-TIME:20230302T153439Z
URL:https://www.mo.camcom.it/registro-imprese/attivita-regolamentate/news/
 prima-sessione-2023-esame-di-idoneita-per-agenti-daffari-in-mediazione
END:VEVENT
BEGIN:VTIMEZONE
TZID:Europe/Rome
X-LIC-LOCATION:Europe/Rome
BEGIN:STANDARD
DTSTART;VALUE=DATE-TIME:20221030T020000
TZNAME:CET
TZOFFSETFROM:+0200
TZOFFSETTO:+0100
END:STANDARD
END:VTIMEZONE
END:VCALENDAR
