BEGIN:VCALENDAR
VERSION:2.0
PRODID:-//Plone.org//NONSGML plone.app.event//EN
X-WR-TIMEZONE:Europe/Rome
BEGIN:VEVENT
SUMMARY:Convocazione sessione esame di idoneità per agenti d'affari in me
 diazione
DTSTART;VALUE=DATE:20200915
DTEND;VALUE=DATE:20200916
DTSTAMP;VALUE=DATE-TIME:20260421T031911Z
UID:856d3a6ff9884d15af5e120ea04c6cfd@www.mo.camcom.it
CATEGORIES:Esami
CREATED;VALUE=DATE-TIME:20200730T135810Z
DESCRIPTION:Esame on line il giorno 15 settembre 2020
LAST-MODIFIED;VALUE=DATE-TIME:20200731T152328Z
URL:https://www.mo.camcom.it/registro-imprese/attivita-regolamentate/news/
 convocazione-sessione-esame-di-idoneita-per-agenti-daffari-in-mediazione-1
 5092020
END:VEVENT
END:VCALENDAR
