BEGIN:VCALENDAR
VERSION:2.0
PRODID:-//Plone.org//NONSGML plone.app.event//EN
X-WR-TIMEZONE:Europe/Rome
BEGIN:VEVENT
SUMMARY:Webinar "Verso la nuova ISO 9001": strategie e impatti della futur
 a revisione
DTSTART;TZID=Europe/Rome;VALUE=DATE-TIME:20250623T100000
DTEND;TZID=Europe/Rome;VALUE=DATE-TIME:20250623T120000
DTSTAMP;VALUE=DATE-TIME:20260424T193554Z
UID:a3fc36ad634145558638df658b07bf21@www.mo.camcom.it
CATEGORIES:Webinar,pid
CREATED;VALUE=DATE-TIME:20250528T093305Z
DESCRIPTION:Il 23 giugno 2025\, dalle ore 10:00 alle 12:00 - Iscrizione gr
 atuita
LAST-MODIFIED;VALUE=DATE-TIME:20250623T093103Z
URL:https://www.mo.camcom.it/promozione/punto-impresa-digitale/news/webina
 r-verso-la-nuova-iso-9001-strategie-e-impatti-della-futura-revisione
END:VEVENT
BEGIN:VTIMEZONE
TZID:Europe/Rome
X-LIC-LOCATION:Europe/Rome
BEGIN:DAYLIGHT
DTSTART;VALUE=DATE-TIME:20250330T030000
TZNAME:CEST
TZOFFSETFROM:+0100
TZOFFSETTO:+0200
END:DAYLIGHT
END:VTIMEZONE
END:VCALENDAR
