BEGIN:VCALENDAR
VERSION:2.0
PRODID:-//Plone.org//NONSGML plone.app.event//EN
X-WR-TIMEZONE:Europe/Rome
BEGIN:VEVENT
SUMMARY:Webinar nazionale di presentazione del Bando PID-Next
DTSTART;TZID=Europe/Rome;VALUE=DATE-TIME:20250527T103000
DTSTAMP;VALUE=DATE-TIME:20260424T144014Z
UID:6dbe06da2b1740538e93b2ff5f3f43d5@www.mo.camcom.it
CATEGORIES:pid,Webinar
CREATED;VALUE=DATE-TIME:20250521T144123Z
DESCRIPTION:Martedì 27 maggio alle ore 10.30
LAST-MODIFIED;VALUE=DATE-TIME:20250527T094754Z
URL:https://www.mo.camcom.it/promozione/punto-impresa-digitale/news/webina
 r-nazionale-di-presentazione-del-bando-pid-next
END:VEVENT
BEGIN:VTIMEZONE
TZID:Europe/Rome
X-LIC-LOCATION:Europe/Rome
BEGIN:DAYLIGHT
DTSTART;VALUE=DATE-TIME:20250330T030000
TZNAME:CEST
TZOFFSETFROM:+0100
TZOFFSETTO:+0200
END:DAYLIGHT
END:VTIMEZONE
END:VCALENDAR
