BEGIN:VCALENDAR
VERSION:2.0
PRODID:-//Plone.org//NONSGML plone.app.event//EN
X-WR-TIMEZONE:Europe/Rome
BEGIN:VEVENT
SUMMARY:Vendere online: fondamenti di E-commerce
DTSTART;TZID=Europe/Rome;VALUE=DATE-TIME:20231205T103000
DTEND;TZID=Europe/Rome;VALUE=DATE-TIME:20231205T123000
DTSTAMP;VALUE=DATE-TIME:20260423T065757Z
UID:f934d9ed306a46e7b9f94b3541200bdd@www.mo.camcom.it
CATEGORIES:Webinar,pid,EiD
CREATED;VALUE=DATE-TIME:20231027T104948Z
DESCRIPTION:Come avviare\, consolidare e rinnovare una strategia di e-comm
 erce da zero. Aperte le iscrizioni al webinar gratuito del 5 dicembre 2023
  organizzato dal Punto Impresa Digitale di Modena
LAST-MODIFIED;VALUE=DATE-TIME:20231205T101911Z
URL:https://www.mo.camcom.it/promozione/punto-impresa-digitale/news/vender
 e-online-fondamenti-di-e-commerce
END:VEVENT
BEGIN:VTIMEZONE
TZID:Europe/Rome
X-LIC-LOCATION:Europe/Rome
BEGIN:STANDARD
DTSTART;VALUE=DATE-TIME:20231029T020000
TZNAME:CET
TZOFFSETFROM:+0200
TZOFFSETTO:+0100
END:STANDARD
END:VTIMEZONE
END:VCALENDAR
