BEGIN:VCALENDAR
VERSION:2.0
PRODID:-//Plone.org//NONSGML plone.app.event//EN
X-WR-TIMEZONE:Europe/Rome
BEGIN:VEVENT
SUMMARY:PID-NEXT - Webinar nazionale di presentazione del Bando
DTSTART;TZID=Europe/Rome;VALUE=DATE-TIME:20250618T103000
DTSTAMP;VALUE=DATE-TIME:20260425T001920Z
UID:b3e4fe8232644f6094edadc0bb1e928c@www.mo.camcom.it
CATEGORIES:pid
CREATED;VALUE=DATE-TIME:20250613T125528Z
DESCRIPTION:Mercoledì 18 giugno\, ore 10\,30
LAST-MODIFIED;VALUE=DATE-TIME:20250618T094800Z
URL:https://www.mo.camcom.it/promozione/punto-impresa-digitale/news/pid-ne
 xt-webinar-nazionale-di-presentazione-del-bando
END:VEVENT
BEGIN:VTIMEZONE
TZID:Europe/Rome
X-LIC-LOCATION:Europe/Rome
BEGIN:DAYLIGHT
DTSTART;VALUE=DATE-TIME:20250330T030000
TZNAME:CEST
TZOFFSETFROM:+0100
TZOFFSETTO:+0200
END:DAYLIGHT
END:VTIMEZONE
END:VCALENDAR
