BEGIN:VCALENDAR
VERSION:2.0
PRODID:-//Plone.org//NONSGML plone.app.event//EN
X-WR-TIMEZONE:Europe/Rome
BEGIN:VEVENT
SUMMARY:Info Day I-NEST: scopri MOSAICO\, la Chat AI che utilizza i docume
 nti aziendali in totale sicurezza
DTSTART;TZID=Europe/Rome;VALUE=DATE-TIME:20251215T110000
DTSTAMP;VALUE=DATE-TIME:20260421T030823Z
UID:206f2a6461864b7ba3444011e748d598@www.mo.camcom.it
CATEGORIES:Webinar,pid
CREATED;VALUE=DATE-TIME:20251204T110731Z
DESCRIPTION:Evento online il 15 dicembre alle ore 11.00
LAST-MODIFIED;VALUE=DATE-TIME:20251215T113721Z
URL:https://www.mo.camcom.it/promozione/punto-impresa-digitale/news/info-d
 ay-i-nest-scopri-mosaico-la-chat-ai-che-utilizza-i-documenti-aziendali-in-
 totale-sicurezza
END:VEVENT
BEGIN:VTIMEZONE
TZID:Europe/Rome
X-LIC-LOCATION:Europe/Rome
BEGIN:STANDARD
DTSTART;VALUE=DATE-TIME:20251026T020000
TZNAME:CET
TZOFFSETFROM:+0200
TZOFFSETTO:+0100
END:STANDARD
END:VTIMEZONE
END:VCALENDAR
