BEGIN:VCALENDAR
VERSION:2.0
PRODID:-//Plone.org//NONSGML plone.app.event//EN
X-WR-TIMEZONE:Europe/Rome
BEGIN:VEVENT
SUMMARY:Il sito: fondamenti
DTSTART;TZID=Europe/Rome;VALUE=DATE-TIME:20230510T103000
DTEND;TZID=Europe/Rome;VALUE=DATE-TIME:20230510T123000
DTSTAMP;VALUE=DATE-TIME:20260424T214736Z
UID:0c933a6cf0c7482fa1ca692e9339d05d@www.mo.camcom.it
CATEGORIES:EiD,Webinar
CREATED;VALUE=DATE-TIME:20230406T091137Z
DESCRIPTION:Aperte le iscrizioni al webinar gratuito del 10 maggio 2023 or
 ganizzato dal Punto Impresa Digitale di Modena
LAST-MODIFIED;VALUE=DATE-TIME:20230524T102425Z
URL:https://www.mo.camcom.it/promozione/punto-impresa-digitale/news/il-sit
 o-fondamenti
END:VEVENT
BEGIN:VTIMEZONE
TZID:Europe/Rome
X-LIC-LOCATION:Europe/Rome
BEGIN:DAYLIGHT
DTSTART;VALUE=DATE-TIME:20230326T030000
TZNAME:CEST
TZOFFSETFROM:+0100
TZOFFSETTO:+0200
END:DAYLIGHT
END:VTIMEZONE
END:VCALENDAR
