BEGIN:VCALENDAR
VERSION:2.0
PRODID:-//Plone.org//NONSGML plone.app.event//EN
X-WR-TIMEZONE:Europe/Rome
BEGIN:VEVENT
SUMMARY:I crediti d'imposta per chi investe in innovazione - Cosa c'è da 
 sapere
DTSTART;TZID=Europe/Rome;VALUE=DATE-TIME:20211203T103000
DTEND;TZID=Europe/Rome;VALUE=DATE-TIME:20211203T123000
DTSTAMP;VALUE=DATE-TIME:20260421T214934Z
UID:6aa3b0dbb65e40f4a7be06cd8873ed32@www.mo.camcom.it
CATEGORIES:pid,Webinar,Eventi PID
CREATED;VALUE=DATE-TIME:20211116T153726Z
DESCRIPTION:Webinar gratuito venerdì 3 dicembre 2021 dalle 10.30 alle 12.
 30
LAST-MODIFIED;VALUE=DATE-TIME:20220201T104109Z
URL:https://www.mo.camcom.it/promozione/punto-impresa-digitale/news/i-cred
 iti-dimposta-per-chi-investe-in-innovazione-cosa-ce-da-sapere
END:VEVENT
BEGIN:VTIMEZONE
TZID:Europe/Rome
X-LIC-LOCATION:Europe/Rome
BEGIN:STANDARD
DTSTART;VALUE=DATE-TIME:20211031T020000
TZNAME:CET
TZOFFSETFROM:+0200
TZOFFSETTO:+0100
END:STANDARD
END:VTIMEZONE
END:VCALENDAR
