BEGIN:VCALENDAR
VERSION:2.0
PRODID:-//Plone.org//NONSGML plone.app.event//EN
X-WR-TIMEZONE:Europe/Rome
BEGIN:VEVENT
SUMMARY:Digital Route: Sostenibilità e Digitalizzazione
DTSTART;TZID=Europe/Rome;VALUE=DATE-TIME:20241023T183000
DTSTAMP;VALUE=DATE-TIME:20260421T030703Z
UID:c08a2c3b5d52459680292a58734e17ab@www.mo.camcom.it
RRULE:FREQ=MONTHLY;COUNT=2;BYMONTHDAY=23
RDATE;TZID=Europe/Rome:20241107T000000,20241118T000000
EXDATE;TZID=Europe/Rome:20241024T000000,20241025T000000,20241026T000000,20
 241027T000000,20241028T000000,20241029T000000,20241123T000000,20241123T000
 000,20241123T000000
CATEGORIES:pid,Webinar
CREATED;VALUE=DATE-TIME:20241008T102049Z
DESCRIPTION:Ciclo di incontri promossi da CDO Emilia in collaborazione con
  il Punto Impresa Digitale di Modena
LAST-MODIFIED;VALUE=DATE-TIME:20241023T072958Z
URL:https://www.mo.camcom.it/promozione/punto-impresa-digitale/news/digita
 l-route-sostenibilita-e-digitalizzazione
END:VEVENT
BEGIN:VTIMEZONE
TZID:Europe/Rome
X-LIC-LOCATION:Europe/Rome
BEGIN:DAYLIGHT
DTSTART;VALUE=DATE-TIME:20240331T030000
TZNAME:CEST
TZOFFSETFROM:+0100
TZOFFSETTO:+0200
END:DAYLIGHT
END:VTIMEZONE
END:VCALENDAR
