BEGIN:VCALENDAR
VERSION:2.0
PRODID:-//Plone.org//NONSGML plone.app.event//EN
X-WR-TIMEZONE:Europe/Rome
BEGIN:VEVENT
SUMMARY:Digital Route 2025: intelligenza artificiale e intelligenza umana
DTSTART;TZID=Europe/Rome;VALUE=DATE-TIME:20251001T183000
DTEND;TZID=Europe/Rome;VALUE=DATE-TIME:20251001T200000
DTSTAMP;VALUE=DATE-TIME:20260425T023012Z
UID:35d40651141042c58c488cc9ed3f433d@www.mo.camcom.it
CATEGORIES:pid
CONTACT:3482954144\, comunicazione@cdoemiliaromagna.it
CREATED;VALUE=DATE-TIME:20250910T114937Z
DESCRIPTION:Ciclo di incontri promossi da CDO Emilia in collaborazione con
  il Punto Impresa Digitale di Modena
LAST-MODIFIED;VALUE=DATE-TIME:20251016T121942Z
LOCATION:Best Western Hotel Modena District - Via del Passatore\, 160\, Ca
 mpogalliano\, MO
URL:https://www.mo.camcom.it/promozione/punto-impresa-digitale/news/digita
 l-route-2025-intelligenza-artificiale-e-intelligenza-umana/2025-10-01
END:VEVENT
BEGIN:VTIMEZONE
TZID:Europe/Rome
X-LIC-LOCATION:Europe/Rome
BEGIN:DAYLIGHT
DTSTART;VALUE=DATE-TIME:20250330T030000
TZNAME:CEST
TZOFFSETFROM:+0100
TZOFFSETTO:+0200
END:DAYLIGHT
END:VTIMEZONE
END:VCALENDAR
