BEGIN:VCALENDAR
VERSION:2.0
PRODID:-//Plone.org//NONSGML plone.app.event//EN
X-WR-TIMEZONE:Europe/Rome
BEGIN:VEVENT
SUMMARY:Young ER Job Day - giovedì 12 ottobre 2023\, ore 14\,30
DTSTART;TZID=Europe/Rome;VALUE=DATE-TIME:20231012T143000
DTEND;TZID=Europe/Rome;VALUE=DATE-TIME:20231012T183000
DTSTAMP;VALUE=DATE-TIME:20260424T113605Z
UID:40f7132178cc4ba99b98472c7ebbe8b4@www.mo.camcom.it
CATEGORIES:Incontro
CREATED;VALUE=DATE-TIME:20231006T092828Z
DESCRIPTION:Giornata di orientamento e di incontro tra aziende e giovani u
 nder 35 alla ricerca di lavoro
LAST-MODIFIED;VALUE=DATE-TIME:20231013T085125Z
LOCATION:Laboratorio Aperto\, viale Buon Pastore 43\, Modena
URL:https://www.mo.camcom.it/promozione/orientamento-al-lavoro/news/young-
 er-job-day-giovedi-12-ottobre-2023-ore-14-30
END:VEVENT
BEGIN:VTIMEZONE
TZID:Europe/Rome
X-LIC-LOCATION:Europe/Rome
BEGIN:DAYLIGHT
DTSTART;VALUE=DATE-TIME:20230326T030000
TZNAME:CEST
TZOFFSETFROM:+0100
TZOFFSETTO:+0200
END:DAYLIGHT
END:VTIMEZONE
END:VCALENDAR
