BEGIN:VCALENDAR
VERSION:2.0
PRODID:-//Plone.org//NONSGML plone.app.event//EN
X-WR-TIMEZONE:Europe/Rome
BEGIN:VEVENT
SUMMARY:Il modello duale: focus sul settore meccanico
DTSTART;TZID=Europe/Rome;VALUE=DATE-TIME:20260610T120000
DTEND;TZID=Europe/Rome;VALUE=DATE-TIME:20260610T133000
DTSTAMP;VALUE=DATE-TIME:20260423T020807Z
UID:93b60bd6d73641199add4f21535f684d@www.mo.camcom.it
CATEGORIES:News
CONTACT:guzzon@ifoa.it
CREATED;VALUE=DATE-TIME:20260422T071725Z
DESCRIPTION:Sei un imprenditore del settore e vuoi approfondire il tema? I
 scriviti all'evento gratuito mercoledì 10 giugno alle ore 12:00 presso la
  sede camerale
LAST-MODIFIED;VALUE=DATE-TIME:20260422T111222Z
URL:https://www.mo.camcom.it/promozione/orientamento-al-lavoro/news/il-mod
 ello-duale-focus-sul-settore-meccanico-10-6-2026
END:VEVENT
BEGIN:VTIMEZONE
TZID:Europe/Rome
X-LIC-LOCATION:Europe/Rome
BEGIN:DAYLIGHT
DTSTART;VALUE=DATE-TIME:20260329T030000
TZNAME:CEST
TZOFFSETFROM:+0100
TZOFFSETTO:+0200
END:DAYLIGHT
END:VTIMEZONE
END:VCALENDAR
