BEGIN:VCALENDAR
VERSION:2.0
PRODID:-//Plone.org//NONSGML plone.app.event//EN
X-WR-TIMEZONE:Europe/Rome
BEGIN:VEVENT
SUMMARY:ZES/ZLS: le opportunità per le imprese
DTSTART;TZID=Europe/Rome;VALUE=DATE-TIME:20250529T110000
DTEND;TZID=Europe/Rome;VALUE=DATE-TIME:20250529T130000
DTSTAMP;VALUE=DATE-TIME:20260419T194053Z
UID:42ec8d23d8a94716855682afdc92deac@www.mo.camcom.it
CATEGORIES:pid,Webinar
CREATED;VALUE=DATE-TIME:20250520T104618Z
DESCRIPTION:Seminario online il 29 maggio ore 11.00 - 13.00
LAST-MODIFIED;VALUE=DATE-TIME:20250529T091419Z
URL:https://www.mo.camcom.it/promozione/iniziative-e-progetti/news/zes-zls
 -le-opportunita-per-le-imprese
END:VEVENT
BEGIN:VTIMEZONE
TZID:Europe/Rome
X-LIC-LOCATION:Europe/Rome
BEGIN:DAYLIGHT
DTSTART;VALUE=DATE-TIME:20250330T030000
TZNAME:CEST
TZOFFSETFROM:+0100
TZOFFSETTO:+0200
END:DAYLIGHT
END:VTIMEZONE
END:VCALENDAR
