BEGIN:VCALENDAR
VERSION:2.0
PRODID:-//Plone.org//NONSGML plone.app.event//EN
X-WR-TIMEZONE:Europe/Rome
BEGIN:VEVENT
SUMMARY:Transizione energetica: sostenibilità aziendale
DTSTART;TZID=Europe/Rome;VALUE=DATE-TIME:20250512T100000
DTEND;TZID=Europe/Rome;VALUE=DATE-TIME:20250512T120000
DTSTAMP;VALUE=DATE-TIME:20260424T195532Z
UID:2e68923c7b3e47749ee83a1e90ae06b5@www.mo.camcom.it
CATEGORIES:Webinar
CONTACT:051 6377034\, ambiente@rer.camcom.it
CREATED;VALUE=DATE-TIME:20250505T142236Z
DESCRIPTION:Incontro online gratuito lunedì 12 maggio 2025
LAST-MODIFIED;VALUE=DATE-TIME:20250513T064341Z
URL:https://www.mo.camcom.it/promozione/iniziative-e-progetti/news/transiz
 ione-energetica-sostenibilita-aziendale
END:VEVENT
BEGIN:VTIMEZONE
TZID:Europe/Rome
X-LIC-LOCATION:Europe/Rome
BEGIN:DAYLIGHT
DTSTART;VALUE=DATE-TIME:20250330T030000
TZNAME:CEST
TZOFFSETFROM:+0100
TZOFFSETTO:+0200
END:DAYLIGHT
END:VTIMEZONE
END:VCALENDAR
