BEGIN:VCALENDAR
VERSION:2.0
PRODID:-//Plone.org//NONSGML plone.app.event//EN
X-WR-TIMEZONE:Europe/Rome
BEGIN:VEVENT
SUMMARY:Modena Terra di Motori 2018
DTSTART;TZID=Europe/Rome;VALUE=DATE-TIME:20260424T180000
DTEND;TZID=Europe/Rome;VALUE=DATE-TIME:20260424T190000
DTSTAMP;VALUE=DATE-TIME:20260424T183452Z
UID:cc4a30f20a5f431a8cc49a98a70f607c@www.mo.camcom.it
CATEGORIES:Convegno
CREATED;VALUE=DATE-TIME:20180612T134632Z
DESCRIPTION:Sabato 16 giugno la kermesse dedicata alle auto e moto storich
 e\, in programma un convegno sulle eccellenze della Motor Valley alla Came
 ra di Commercio
LAST-MODIFIED;VALUE=DATE-TIME:20190912T105553Z
LOCATION:Camera di Commercio di Modena
URL:https://www.mo.camcom.it/promozione/iniziative-e-progetti/news/modena-
 terra-di-motori-2018
END:VEVENT
BEGIN:VTIMEZONE
TZID:Europe/Rome
X-LIC-LOCATION:Europe/Rome
BEGIN:DAYLIGHT
DTSTART;VALUE=DATE-TIME:20260329T030000
TZNAME:CEST
TZOFFSETFROM:+0100
TZOFFSETTO:+0200
END:DAYLIGHT
END:VTIMEZONE
END:VCALENDAR
