BEGIN:VCALENDAR
VERSION:2.0
PRODID:-//Plone.org//NONSGML plone.app.event//EN
X-WR-TIMEZONE:Europe/Rome
BEGIN:VEVENT
SUMMARY:La sostenibilità nella gestione della filiera
DTSTART;TZID=Europe/Rome;VALUE=DATE-TIME:20250710T150000
DTEND;TZID=Europe/Rome;VALUE=DATE-TIME:20250710T170000
DTSTAMP;VALUE=DATE-TIME:20260424T052158Z
UID:ec5655087d8743c48c21b06c51686e8a@www.mo.camcom.it
CATEGORIES:Webinar
CONTACT:0516377034\, ambiente@rer.camcom.it
CREATED;VALUE=DATE-TIME:20250625T111604Z
DESCRIPTION:Webinar gratuito giovedì 10 luglio ore 15:00-17:00
LAST-MODIFIED;VALUE=DATE-TIME:20250710T144730Z
URL:https://www.mo.camcom.it/promozione/iniziative-e-progetti/news/la-sost
 enibilita-nella-gestione-della-filiera
END:VEVENT
BEGIN:VTIMEZONE
TZID:Europe/Rome
X-LIC-LOCATION:Europe/Rome
BEGIN:DAYLIGHT
DTSTART;VALUE=DATE-TIME:20250330T030000
TZNAME:CEST
TZOFFSETFROM:+0100
TZOFFSETTO:+0200
END:DAYLIGHT
END:VTIMEZONE
END:VCALENDAR
