BEGIN:VCALENDAR
VERSION:2.0
PRODID:-//Plone.org//NONSGML plone.app.event//EN
X-WR-TIMEZONE:Europe/Rome
BEGIN:VEVENT
SUMMARY:La CCIAA presenta alle imprese le Academy duali
DTSTART;TZID=Europe/Rome;VALUE=DATE-TIME:20250710T120000
DTEND;TZID=Europe/Rome;VALUE=DATE-TIME:20250710T133000
DTSTAMP;VALUE=DATE-TIME:20260419T194054Z
UID:be1f16b7e666492f9d3c615ffa11ed10@www.mo.camcom.it
CATEGORIES:Incontro
CONTACT:0522 329159 - 335 7904317\, guzzon@ifoa.it
CREATED;VALUE=DATE-TIME:20250702T100728Z
DESCRIPTION:Sei un imprenditore e vuoi approfondire il tema? Iscriviti all
 'evento gratuito giovedì 10 luglio alle ore 12:00 presso la sede camerale
LAST-MODIFIED;VALUE=DATE-TIME:20250710T144752Z
LOCATION:Camera di Commercio di Modena
URL:https://www.mo.camcom.it/promozione/iniziative-e-progetti/news/la-ccia
 a-presenta-alle-imprese-le-academy-duali
END:VEVENT
BEGIN:VTIMEZONE
TZID:Europe/Rome
X-LIC-LOCATION:Europe/Rome
BEGIN:DAYLIGHT
DTSTART;VALUE=DATE-TIME:20250330T030000
TZNAME:CEST
TZOFFSETFROM:+0100
TZOFFSETTO:+0200
END:DAYLIGHT
END:VTIMEZONE
END:VCALENDAR
