BEGIN:VCALENDAR
VERSION:2.0
PRODID:-//Plone.org//NONSGML plone.app.event//EN
X-WR-TIMEZONE:Europe/Rome
BEGIN:VEVENT
SUMMARY:Impatti ambientali e sviluppo sostenibile
DTSTART;TZID=Europe/Rome;VALUE=DATE-TIME:20250722T100000
DTEND;TZID=Europe/Rome;VALUE=DATE-TIME:20250722T120000
DTSTAMP;VALUE=DATE-TIME:20260423T111740Z
UID:5c4fa21f8db84ac594db186daa26fe45@www.mo.camcom.it
CATEGORIES:Webinar
CONTACT:0516377034\, ambiente@rer.camcom.it
CREATED;VALUE=DATE-TIME:20250625T111604Z
DESCRIPTION:Incontro online gratuito martedì 22 luglio 2025
LAST-MODIFIED;VALUE=DATE-TIME:20250722T083803Z
URL:https://www.mo.camcom.it/promozione/iniziative-e-progetti/news/impatti
 -ambientali-e-sviluppo-sostenibile
END:VEVENT
BEGIN:VTIMEZONE
TZID:Europe/Rome
X-LIC-LOCATION:Europe/Rome
BEGIN:DAYLIGHT
DTSTART;VALUE=DATE-TIME:20250330T030000
TZNAME:CEST
TZOFFSETFROM:+0100
TZOFFSETTO:+0200
END:DAYLIGHT
END:VTIMEZONE
END:VCALENDAR
