BEGIN:VCALENDAR
VERSION:2.0
PRODID:-//Plone.org//NONSGML plone.app.event//EN
X-WR-TIMEZONE:Europe/Rome
BEGIN:VEVENT
SUMMARY:Il senso del lavoro nei giovani: prospettive\, sfide e ambizioni
DTSTART;TZID=Europe/Rome;VALUE=DATE-TIME:20250123T150000
DTEND;TZID=Europe/Rome;VALUE=DATE-TIME:20250123T180000
DTSTAMP;VALUE=DATE-TIME:20260421T180120Z
UID:1fc2e5ab0bf4433c8f4b58d3305a5ec9@www.mo.camcom.it
CATEGORIES:Convegno
CREATED;VALUE=DATE-TIME:20241220T083900Z
DESCRIPTION:23 gennaio 2025\, ore 15.00 | Camera di Commercio di Modena - 
 Segui l'evento in diretta streaming
LAST-MODIFIED;VALUE=DATE-TIME:20250124T083841Z
LOCATION:Camera di Commercio di Modena - via Ganaceto\, 134\, Modena (MO)
URL:https://www.mo.camcom.it/promozione/iniziative-e-progetti/news/il-sens
 o-del-lavoro-nei-giovani-prospettive-sfide-e-ambizioni
END:VEVENT
BEGIN:VTIMEZONE
TZID:Europe/Rome
X-LIC-LOCATION:Europe/Rome
BEGIN:STANDARD
DTSTART;VALUE=DATE-TIME:20241027T020000
TZNAME:CET
TZOFFSETFROM:+0200
TZOFFSETTO:+0100
END:STANDARD
END:VTIMEZONE
END:VCALENDAR
