BEGIN:VCALENDAR
VERSION:2.0
PRODID:-//Plone.org//NONSGML plone.app.event//EN
X-WR-TIMEZONE:Europe/Rome
BEGIN:VEVENT
SUMMARY:Google Digital Training
DTSTART;TZID=Europe/Rome;VALUE=DATE-TIME:20260423T230000
DTEND;TZID=Europe/Rome;VALUE=DATE-TIME:20260424T000000
DTSTAMP;VALUE=DATE-TIME:20260423T235838Z
UID:86ec1019f4924650ab77a925ce362344@www.mo.camcom.it
CATEGORIES:pid,Corso
CONTACT:Segreteria Direzionale\, 059 208800\, info@mo.camcom.it
CREATED;VALUE=DATE-TIME:20180615T132713Z
DESCRIPTION:Martedì 26 giugno 2018 una giornata dedicata alle imprese per
  promuovere la cultura del digitale
LAST-MODIFIED;VALUE=DATE-TIME:20190912T105553Z
LOCATION:Camera di Commercio di Modena
URL:https://www.mo.camcom.it/promozione/iniziative-e-progetti/news/google-
 digital-training
END:VEVENT
BEGIN:VTIMEZONE
TZID:Europe/Rome
X-LIC-LOCATION:Europe/Rome
BEGIN:DAYLIGHT
DTSTART;VALUE=DATE-TIME:20260329T030000
TZNAME:CEST
TZOFFSETFROM:+0100
TZOFFSETTO:+0200
END:DAYLIGHT
END:VTIMEZONE
END:VCALENDAR
