BEGIN:VCALENDAR
VERSION:2.0
PRODID:-//Plone.org//NONSGML plone.app.event//EN
X-WR-TIMEZONE:Europe/Rome
BEGIN:VEVENT
SUMMARY:Gli strumenti di supporto per l'internazionalizzazione
DTSTART;TZID=Europe/Rome;VALUE=DATE-TIME:20260420T070000
DTEND;TZID=Europe/Rome;VALUE=DATE-TIME:20260420T080000
DTSTAMP;VALUE=DATE-TIME:20260420T072736Z
UID:0a4e0a70a57549728311ca0e066ee41b@www.mo.camcom.it
CATEGORIES:Seminario
CONTACT:Sportello Genesi\, 059 208816\, genesi@mo.camcom.it
CREATED;VALUE=DATE-TIME:20160215T143946Z
DESCRIPTION:Camera di commercio di Modena\, 29 febbraio 2016
LAST-MODIFIED;VALUE=DATE-TIME:20190912T105551Z
LOCATION:Camera di Commercio di Modena
URL:https://www.mo.camcom.it/promozione/iniziative-e-progetti/news/gli-str
 umenti-di-supporto-per-linternazionalizzazione
END:VEVENT
BEGIN:VTIMEZONE
TZID:Europe/Rome
X-LIC-LOCATION:Europe/Rome
BEGIN:DAYLIGHT
DTSTART;VALUE=DATE-TIME:20260329T030000
TZNAME:CEST
TZOFFSETFROM:+0100
TZOFFSETTO:+0200
END:DAYLIGHT
END:VTIMEZONE
END:VCALENDAR
