BEGIN:VCALENDAR
VERSION:2.0
PRODID:-//Plone.org//NONSGML plone.app.event//EN
X-WR-TIMEZONE:Europe/Rome
BEGIN:VEVENT
SUMMARY:Cybersecurity: un webinar per le imprese
DTSTART;TZID=Europe/Rome;VALUE=DATE-TIME:20220420T150000
DTEND;TZID=Europe/Rome;VALUE=DATE-TIME:20220420T170000
DTSTAMP;VALUE=DATE-TIME:20260424T170319Z
UID:ac842699068c4e6983837d570424457a@www.mo.camcom.it
CATEGORIES:Webinar,pid
CREATED;VALUE=DATE-TIME:20220408T120833Z
DESCRIPTION:Prosegue il 20 aprile\, con un incontro sulla sicurezza inform
 atica\, il ciclo formativo sulle nuove tecnologie digitali promosso da Uni
 oncamere Emilia-Romagna\, in collaborazione con Uniontrasporti
LAST-MODIFIED;VALUE=DATE-TIME:20220420T082311Z
URL:https://www.mo.camcom.it/promozione/iniziative-e-progetti/news/cyberse
 curity-un-webinar-per-le-imprese
END:VEVENT
BEGIN:VTIMEZONE
TZID:Europe/Rome
X-LIC-LOCATION:Europe/Rome
BEGIN:DAYLIGHT
DTSTART;VALUE=DATE-TIME:20220327T030000
TZNAME:CEST
TZOFFSETFROM:+0100
TZOFFSETTO:+0200
END:DAYLIGHT
END:VTIMEZONE
END:VCALENDAR
