BEGIN:VCALENDAR
VERSION:2.0
PRODID:-//Plone.org//NONSGML plone.app.event//EN
X-WR-TIMEZONE:Europe/Rome
BEGIN:VEVENT
SUMMARY:Corso di formazione per agenti d’affari in mediazione
DTSTART;TZID=Europe/Rome;VALUE=DATE-TIME:20260408T150000
DTEND;TZID=Europe/Rome;VALUE=DATE-TIME:20260408T190000
DTSTAMP;VALUE=DATE-TIME:20260421T120202Z
UID:c602e8bfda89476ba0cf397514425699@www.mo.camcom.it
CATEGORIES:Corso
CONTACT:catalogo@ifoa.it
CREATED;VALUE=DATE-TIME:20180905T142114Z
DESCRIPTION:Dal 8 aprile 2026 il lunedì e mercoledì dalle 15 alle 19 e i
 l venerdì mattina dalle 9 alle 13 in webinar. Le iscrizioni entro il 1 ap
 rile 2026.
LAST-MODIFIED;VALUE=DATE-TIME:20260402T060311Z
LOCATION:Camera di Commercio di Modena
URL:https://www.mo.camcom.it/promozione/iniziative-e-progetti/news/corso-d
 i-formazione-per-agenti-daffari-in-mediazione-2026
END:VEVENT
BEGIN:VTIMEZONE
TZID:Europe/Rome
X-LIC-LOCATION:Europe/Rome
BEGIN:DAYLIGHT
DTSTART;VALUE=DATE-TIME:20260329T030000
TZNAME:CEST
TZOFFSETFROM:+0100
TZOFFSETTO:+0200
END:DAYLIGHT
END:VTIMEZONE
END:VCALENDAR
