BEGIN:VCALENDAR
VERSION:2.0
PRODID:-//Plone.org//NONSGML plone.app.event//EN
X-WR-TIMEZONE:Europe/Rome
BEGIN:VEVENT
SUMMARY:Corso di formazione abilitante per Agente e Rappresentante di Comm
 ercio (L. 204/1985)
DTSTART;TZID=Europe/Rome;VALUE=DATE-TIME:20260414T150000
DTEND;TZID=Europe/Rome;VALUE=DATE-TIME:20260414T190000
DTSTAMP;VALUE=DATE-TIME:20260421T133510Z
UID:c46e784317bd4a86bae893093a2204b4@www.mo.camcom.it
CATEGORIES:Corso
CONTACT:catalogo@ifoa.it
CREATED;VALUE=DATE-TIME:20180905T142114Z
DESCRIPTION:Dal 14 aprile 2026\, il martedì e il giovedì dalle 15 alle 1
 9
LAST-MODIFIED;VALUE=DATE-TIME:20260408T145518Z
LOCATION:Camera di Commercio di Modena
URL:https://www.mo.camcom.it/promozione/iniziative-e-progetti/news/corso-d
 i-formazione-abilitante-per-agente-e-rappresentante-di-commercio-2026
END:VEVENT
BEGIN:VTIMEZONE
TZID:Europe/Rome
X-LIC-LOCATION:Europe/Rome
BEGIN:DAYLIGHT
DTSTART;VALUE=DATE-TIME:20260329T030000
TZNAME:CEST
TZOFFSETFROM:+0100
TZOFFSETTO:+0200
END:DAYLIGHT
END:VTIMEZONE
END:VCALENDAR
