BEGIN:VCALENDAR
VERSION:2.0
PRODID:-//Plone.org//NONSGML plone.app.event//EN
X-WR-TIMEZONE:Europe/Rome
BEGIN:VEVENT
SUMMARY:CER Comunità Energetiche Rinnovabili
DTSTART;TZID=Europe/Rome;VALUE=DATE-TIME:20250530T093000
DTEND;TZID=Europe/Rome;VALUE=DATE-TIME:20250530T123000
DTSTAMP;VALUE=DATE-TIME:20260419T184858Z
UID:9e8c9dda0e304cdaa8e856314fcb7b8e@www.mo.camcom.it
CATEGORIES:Webinar
CONTACT:051 6377034\, ambiente@rer.camcom.it
CREATED;VALUE=DATE-TIME:20250521T080122Z
DESCRIPTION:Colloqui informativi gratuiti venerdì 30 maggio 2025
LAST-MODIFIED;VALUE=DATE-TIME:20250606T133746Z
URL:https://www.mo.camcom.it/promozione/iniziative-e-progetti/news/cer-com
 unita-energetiche-rinnovabili-30052025
END:VEVENT
BEGIN:VTIMEZONE
TZID:Europe/Rome
X-LIC-LOCATION:Europe/Rome
BEGIN:DAYLIGHT
DTSTART;VALUE=DATE-TIME:20250330T030000
TZNAME:CEST
TZOFFSETFROM:+0100
TZOFFSETTO:+0200
END:DAYLIGHT
END:VTIMEZONE
END:VCALENDAR
