BEGIN:VCALENDAR
VERSION:2.0
PRODID:-//Plone.org//NONSGML plone.app.event//EN
X-WR-TIMEZONE:Europe/Rome
BEGIN:VEVENT
SUMMARY:CER Comunità Energetiche Rinnovabili
DTSTART;TZID=Europe/Rome;VALUE=DATE-TIME:20250725T093000
DTEND;TZID=Europe/Rome;VALUE=DATE-TIME:20250725T123000
DTSTAMP;VALUE=DATE-TIME:20260419T194652Z
UID:82faa26bc3bc4a19956be6c4109cf2d9@www.mo.camcom.it
CATEGORIES:Webinar
CONTACT:051 6377034\, ambiente@rer.camcom.it
CREATED;VALUE=DATE-TIME:20250718T090915Z
DESCRIPTION:Colloqui informativi gratuiti venerdì 25 luglio 2025
LAST-MODIFIED;VALUE=DATE-TIME:20250728T063738Z
URL:https://www.mo.camcom.it/promozione/iniziative-e-progetti/news/cer-com
 unita-energetiche-rinnovabili-250725
END:VEVENT
BEGIN:VTIMEZONE
TZID:Europe/Rome
X-LIC-LOCATION:Europe/Rome
BEGIN:DAYLIGHT
DTSTART;VALUE=DATE-TIME:20250330T030000
TZNAME:CEST
TZOFFSETFROM:+0100
TZOFFSETTO:+0200
END:DAYLIGHT
END:VTIMEZONE
END:VCALENDAR
