BEGIN:VCALENDAR
VERSION:2.0
PRODID:-//Plone.org//NONSGML plone.app.event//EN
X-WR-TIMEZONE:Europe/Rome
BEGIN:VEVENT
SUMMARY:Campionamento ufficiale e controperizia nel settore alimentare
DTSTART;TZID=Europe/Rome;VALUE=DATE-TIME:20260506T093000
DTEND;TZID=Europe/Rome;VALUE=DATE-TIME:20260506T120000
DTSTAMP;VALUE=DATE-TIME:20260422T204857Z
UID:0ade8f7129ad4114b6a5427b0ab4b11e@www.mo.camcom.it
CATEGORIES:News
CONTACT:simpler@rer.camcom.it
CREATED;VALUE=DATE-TIME:20260422T065900Z
DESCRIPTION:Webinar gratuito 6 maggio dalle ore 9:30 – 12:00
LAST-MODIFIED;VALUE=DATE-TIME:20260422T110819Z
URL:https://www.mo.camcom.it/promozione/iniziative-e-progetti/news/campion
 amento-ufficiale-e-controperizia-nel-settore-alimentare
END:VEVENT
BEGIN:VTIMEZONE
TZID:Europe/Rome
X-LIC-LOCATION:Europe/Rome
BEGIN:DAYLIGHT
DTSTART;VALUE=DATE-TIME:20260329T030000
TZNAME:CEST
TZOFFSETFROM:+0100
TZOFFSETTO:+0200
END:DAYLIGHT
END:VTIMEZONE
END:VCALENDAR
