BEGIN:VCALENDAR
VERSION:2.0
PRODID:-//Plone.org//NONSGML plone.app.event//EN
X-WR-TIMEZONE:Europe/Rome
BEGIN:VEVENT
SUMMARY:Attacchi informatici alle aziende modenesi: sfide\, strategie di p
 rotezione e quadro normativo
DTSTART;TZID=Europe/Rome;VALUE=DATE-TIME:20250521T150000
DTEND;TZID=Europe/Rome;VALUE=DATE-TIME:20250521T180000
DTSTAMP;VALUE=DATE-TIME:20260421T090007Z
UID:1d106ecb87b04ba7ab9b0b014a56be73@www.mo.camcom.it
CATEGORIES:Convegno,pid
CREATED;VALUE=DATE-TIME:20250424T085256Z
DESCRIPTION:Mercoledì 21 maggio\, ore 15-18\, Camera di Commercio di Mode
 na | Segui l'evento in diretta Streaming
LAST-MODIFIED;VALUE=DATE-TIME:20250521T182135Z
LOCATION:Camera di Commercio di Modena
URL:https://www.mo.camcom.it/promozione/iniziative-e-progetti/news/attacch
 i-informatici-alle-aziende-modenesi-sfide-strategie-di-protezione-e-quadro
 -normativo
END:VEVENT
BEGIN:VTIMEZONE
TZID:Europe/Rome
X-LIC-LOCATION:Europe/Rome
BEGIN:DAYLIGHT
DTSTART;VALUE=DATE-TIME:20250330T030000
TZNAME:CEST
TZOFFSETFROM:+0100
TZOFFSETTO:+0200
END:DAYLIGHT
END:VTIMEZONE
END:VCALENDAR
