BEGIN:VCALENDAR
VERSION:2.0
PRODID:-//Plone.org//NONSGML plone.app.event//EN
X-WR-TIMEZONE:Europe/Rome
BEGIN:VEVENT
SUMMARY:Bando regionale per la promozione dell'economia circolare
DTSTART;TZID=Europe/Rome;VALUE=DATE-TIME:20240408T150000
DTEND;TZID=Europe/Rome;VALUE=DATE-TIME:20240408T170000
DTSTAMP;VALUE=DATE-TIME:20260424T193544Z
UID:433b637c71a9423ea240e7c974759dfd@www.mo.camcom.it
CATEGORIES:Webinar
CREATED;VALUE=DATE-TIME:20240404T135532Z
DESCRIPTION:Webinar di presentazione lunedì 8 aprile 2024 alle ore 15:00.
  Domande di contributo dal 22 aprile.
LAST-MODIFIED;VALUE=DATE-TIME:20240409T103628Z
URL:https://www.mo.camcom.it/promozione/incentivi/news/bando-regionale-per
 -la-promozione-delleconomia-circolare
END:VEVENT
BEGIN:VTIMEZONE
TZID:Europe/Rome
X-LIC-LOCATION:Europe/Rome
BEGIN:DAYLIGHT
DTSTART;VALUE=DATE-TIME:20240331T030000
TZNAME:CEST
TZOFFSETFROM:+0100
TZOFFSETTO:+0200
END:DAYLIGHT
END:VTIMEZONE
END:VCALENDAR
