BEGIN:VCALENDAR
VERSION:2.0
PRODID:-//Plone.org//NONSGML plone.app.event//EN
X-WR-TIMEZONE:Europe/Rome
BEGIN:VEVENT
SUMMARY:Rassegna Parole e Imprese. Scrittori e Imprenditori si raccontano.
DTSTART;TZID=Europe/Rome;VALUE=DATE-TIME:20260422T050000
DTEND;TZID=Europe/Rome;VALUE=DATE-TIME:20260422T060000
DTSTAMP;VALUE=DATE-TIME:20260422T050141Z
UID:1206eaa213a548179638f035be03e65e@www.mo.camcom.it
CATEGORIES:imprenditoria giovanile,Incontro
CREATED;VALUE=DATE-TIME:20171002T095021Z
DESCRIPTION:Lunedì 16 ottobre il terzo incontro della rassegna promossa d
 al Comitato per l'Imprenditoria Giovanile\, con la presenza della campione
 ssa olimpica Cecilia Camellini
LAST-MODIFIED;VALUE=DATE-TIME:20190829T121711Z
LOCATION:Libreria Ubik - via dei Tintori 22\, Modena
URL:https://www.mo.camcom.it/promozione/imprenditoria-giovanile/news/rasse
 gna-parole-e-imprese-scrittori-e-imprenditori-si-raccontano
END:VEVENT
BEGIN:VTIMEZONE
TZID:Europe/Rome
X-LIC-LOCATION:Europe/Rome
BEGIN:DAYLIGHT
DTSTART;VALUE=DATE-TIME:20260329T030000
TZNAME:CEST
TZOFFSETFROM:+0100
TZOFFSETTO:+0200
END:DAYLIGHT
END:VTIMEZONE
END:VCALENDAR
