BEGIN:VCALENDAR
VERSION:2.0
PRODID:-//Plone.org//NONSGML plone.app.event//EN
X-WR-TIMEZONE:Europe/Rome
BEGIN:VEVENT
SUMMARY:Problem Solving: ritrovare energia e idee per reinventarsi e uscir
 e da un momento incredibile
DTSTART;TZID=Europe/Rome;VALUE=DATE-TIME:20200610T200000
DTEND;TZID=Europe/Rome;VALUE=DATE-TIME:20200610T230000
DTSTAMP;VALUE=DATE-TIME:20260421T042820Z
UID:2700f60744f944bf8ae969d052962774@www.mo.camcom.it
CATEGORIES:imprenditoria femminile,Incontro
CREATED;VALUE=DATE-TIME:20200528T131717Z
DESCRIPTION:I edizione dell'incontro\, dedicata ad imprenditrici con punti
  vendita
LAST-MODIFIED;VALUE=DATE-TIME:20200608T101934Z
URL:https://www.mo.camcom.it/promozione/imprenditoria-femminile/news-impre
 nditoria-femminile/problem-solving-ritrovare-energia-e-idee-per-reinventar
 si-e-uscire-da-un-momento-incredibile-i-edizione
END:VEVENT
BEGIN:VTIMEZONE
TZID:Europe/Rome
X-LIC-LOCATION:Europe/Rome
BEGIN:DAYLIGHT
DTSTART;VALUE=DATE-TIME:20200329T030000
TZNAME:CEST
TZOFFSETFROM:+0100
TZOFFSETTO:+0200
END:DAYLIGHT
END:VTIMEZONE
END:VCALENDAR
