BEGIN:VCALENDAR
VERSION:2.0
PRODID:-//Plone.org//NONSGML plone.app.event//EN
X-WR-TIMEZONE:Europe/Rome
BEGIN:VEVENT
SUMMARY:4° Meeting nazionale TIWS - Top Italian Women Scientist
DTSTART;TZID=Europe/Rome;VALUE=DATE-TIME:20220923T150000
DTEND;TZID=Europe/Rome;VALUE=DATE-TIME:20220923T180000
DTSTAMP;VALUE=DATE-TIME:20260420T221651Z
UID:3e11615f57e94964b8d60ab5c0befb12@www.mo.camcom.it
CATEGORIES:imprenditoria femminile,Webinar,Incontro
CREATED;VALUE=DATE-TIME:20220915T091734Z
DESCRIPTION:Ragazze con i numeri a colloquio con le scienziate TIWS
LAST-MODIFIED;VALUE=DATE-TIME:20220923T140119Z
URL:https://www.mo.camcom.it/promozione/imprenditoria-femminile/news-impre
 nditoria-femminile/4deg-meeting-nazionale-tiws-top-italian-women-scientist
END:VEVENT
BEGIN:VTIMEZONE
TZID:Europe/Rome
X-LIC-LOCATION:Europe/Rome
BEGIN:DAYLIGHT
DTSTART;VALUE=DATE-TIME:20220327T030000
TZNAME:CEST
TZOFFSETFROM:+0100
TZOFFSETTO:+0200
END:DAYLIGHT
END:VTIMEZONE
END:VCALENDAR
