BEGIN:VCALENDAR
VERSION:2.0
PRODID:-//Plone.org//NONSGML plone.app.event//EN
X-WR-TIMEZONE:Europe/Rome
BEGIN:VEVENT
SUMMARY:Un DNA digitale per fronteggiare le emergenze: strumenti di appren
 dimento e di analisi per gestire la propria presenza online
DTSTART;TZID=Europe/Rome;VALUE=DATE-TIME:20210607T110000
DTEND;TZID=Europe/Rome;VALUE=DATE-TIME:20210607T130000
DTSTAMP;VALUE=DATE-TIME:20260423T192837Z
UID:126562b52fbe4402b5d89702a044ecf6@www.mo.camcom.it
CATEGORIES:pid,Webinar,EiD
CREATED;VALUE=DATE-TIME:20210511T103248Z
DESCRIPTION:Webinar gratuito 7 giugno 2021 - ore 11.00-13.00
LAST-MODIFIED;VALUE=DATE-TIME:20211005T143941Z
URL:https://www.mo.camcom.it/promozione/formazione/news/un-dna-digitale-pe
 r-fronteggiare-le-emergenze
END:VEVENT
BEGIN:VTIMEZONE
TZID:Europe/Rome
X-LIC-LOCATION:Europe/Rome
BEGIN:DAYLIGHT
DTSTART;VALUE=DATE-TIME:20210328T030000
TZNAME:CEST
TZOFFSETFROM:+0100
TZOFFSETTO:+0200
END:DAYLIGHT
END:VTIMEZONE
END:VCALENDAR
