BEGIN:VCALENDAR
VERSION:2.0
PRODID:-//Plone.org//NONSGML plone.app.event//EN
X-WR-TIMEZONE:Europe/Rome
BEGIN:VEVENT
SUMMARY:Sinergie e punti di forza tra Motor e Food Valley
DTSTART;TZID=Europe/Rome;VALUE=DATE-TIME:20220527T150000
DTEND;TZID=Europe/Rome;VALUE=DATE-TIME:20220527T170000
DTSTAMP;VALUE=DATE-TIME:20260420T165756Z
UID:7bdd9d044721478699a0dfb272e8356c@www.mo.camcom.it
CATEGORIES:Modena Economica,Convegno
CREATED;VALUE=DATE-TIME:20220523T131621Z
DESCRIPTION:Il 27 maggio 2022 un convegno alla Camera di Commercio. L'Emil
 ia-Romagna e il suo storico legame con il turismo si raccontano attraverso
  esempi di buone prassi istituzionali e case history di successo
LAST-MODIFIED;VALUE=DATE-TIME:20220527T142020Z
URL:https://www.mo.camcom.it/modena-economica/news/sinergie-e-punti-di-for
 za-tra-motor-e-food-valley
END:VEVENT
BEGIN:VTIMEZONE
TZID:Europe/Rome
X-LIC-LOCATION:Europe/Rome
BEGIN:DAYLIGHT
DTSTART;VALUE=DATE-TIME:20220327T030000
TZNAME:CEST
TZOFFSETFROM:+0100
TZOFFSETTO:+0200
END:DAYLIGHT
END:VTIMEZONE
END:VCALENDAR
